BEGIN:VCALENDAR
VERSION:2.0
PRODID:-//Plone.org//NONSGML plone.app.event//EN
X-WR-TIMEZONE:Europe/Amsterdam
BEGIN:VEVENT
SUMMARY:Meeting 'BRC Belgian Working Group on Basic Research in Cardiology
 '
DTSTART;TZID=Europe/Amsterdam:20251208T083000
DTEND;TZID=Europe/Amsterdam:20251208T180000
DTSTAMP:20260423T030350Z
UID:d8db42c0463d4c5ba8f7c3ab1e2b7283@www.ugent.be
CATEGORIES:GE,Meeting
CONTACT:Department of Human Structure and Repair - Faculty of Medicine and
  Health Sciences\, jolanda.vanhengel@ugent.be\, https://www.bscardio.be/
CREATED:20251106T194455Z
DESCRIPTION:Annual meeting of the Belgian Working Group on Basic Research 
 in Cardiology
LAST-MODIFIED:20251113T103234Z
LOCATION:The Core\, entrance 37\, UZ hospital campus\, Corneel Heymanslaan
  10\, 9000 Ghent
URL:https://www.ugent.be/en/agenda/brc-cardiology
END:VEVENT
BEGIN:VTIMEZONE
TZID:Europe/Amsterdam
X-LIC-LOCATION:Europe/Amsterdam
BEGIN:STANDARD
DTSTART:20251026T020000
TZNAME:CET
TZOFFSETFROM:+0200
TZOFFSETTO:+0100
END:STANDARD
END:VTIMEZONE
END:VCALENDAR
