BEGIN:VCALENDAR
VERSION:2.0
PRODID:-//Plone.org//NONSGML plone.app.event//EN
X-WR-TIMEZONE:Europe/Amsterdam
BEGIN:VEVENT
SUMMARY:Lecture 'Meet the Expert - Artificial Intelligence for Socially In
 telligent and Cognitively Inspired Robots'
DTSTART;TZID=Europe/Amsterdam:20260331T143000
DTEND;TZID=Europe/Amsterdam:20260331T163000
DTSTAMP:20260421T155307Z
UID:af5a63a458564982a835933a9bae6b2d@www.ugent.be
CATEGORIES:DS,TW,Meet the expert,Lecture
CONTACT:Department of Electronics and Information Systems - Faculty of Eng
 ineering and Architecture\, ruben.janssens@ugent.be\, https://airo.ugent.b
 e/news/ai-socially-intelligent-robots/
CREATED:20260327T153900Z
DESCRIPTION:How can artificial intelligence empower robots that are social
 ly intelligent? Can human cognition be an inspiration for technical advanc
 es-or vice versa? And how can robots be developed to be beneficial for soc
 iety?
LAST-MODIFIED:20260331T105147Z
LOCATION:Leszaal 1.1 Henri Pirenne\, Ufo\, Sint-Pietersnieuwstraat 33\, 90
 00 Ghent
URL:https://www.ugent.be/en/agenda/cognitive-robots
END:VEVENT
BEGIN:VTIMEZONE
TZID:Europe/Amsterdam
X-LIC-LOCATION:Europe/Amsterdam
BEGIN:DAYLIGHT
DTSTART:20260329T030000
TZNAME:CEST
TZOFFSETFROM:+0100
TZOFFSETTO:+0200
END:DAYLIGHT
END:VTIMEZONE
END:VCALENDAR
