BEGIN:VCALENDAR
VERSION:2.0
PRODID:-//Plone.org//NONSGML plone.app.event//EN
X-WR-TIMEZONE:Europe/Amsterdam
BEGIN:VEVENT
SUMMARY:Study day 'Hearing care beyond fitting'
DTSTART;TZID=Europe/Amsterdam:20260618T090000
DTEND;TZID=Europe/Amsterdam:20260618T133000
DTSTAMP:20260426T014037Z
UID:d2ac0fd73c5848788d45debadbaf7948@www.ugent.be
CATEGORIES:GE,Study day
CONTACT:The GHALL - Faculty of Medicine and Health Sciences\, ghall@ugent.
 be\, https://ghall.ugent.be/hearing-care-beyond-fitting
CREATED:20260424T132220Z
DESCRIPTION:Take your clinical practice to the next level and join us for 
 this inspiring seminar. Discover cutting‑edge insights and broaden your 
 perspective on hearing care that goes far beyond device fitting.
LAST-MODIFIED:20260424T134153Z
LOCATION:Auditorium Nobel - Campus UZ Gent\, ingang 7\, Corneel Heymanslaa
 n  10\, 9000 Ghent
URL:https://www.ugent.be/en/agenda/hearing-care
END:VEVENT
BEGIN:VTIMEZONE
TZID:Europe/Amsterdam
X-LIC-LOCATION:Europe/Amsterdam
BEGIN:DAYLIGHT
DTSTART:20260329T030000
TZNAME:CEST
TZOFFSETFROM:+0100
TZOFFSETTO:+0200
END:DAYLIGHT
END:VTIMEZONE
END:VCALENDAR
