BEGIN:VCALENDAR
VERSION:2.0
PRODID:-//Plone.org//NONSGML plone.app.event//EN
X-WR-TIMEZONE:Europe/Amsterdam
BEGIN:VEVENT
SUMMARY:Lecture 'Disrupting the Narrative on Palestine'
DTSTART;TZID=Europe/Amsterdam:20260506T180000
DTEND;TZID=Europe/Amsterdam:20260506T200000
DTSTAMP:20260422T145006Z
UID:a01e43a580d64b0784d87a4317f87054@www.ugent.be
CATEGORIES:LW,Lecture
CONTACT:Department of Languages and Cultures - Faculty of Arts and Philoso
 phy\, lisa.franke@ugent.be\, https://www.middleeast.ugent.be/en/prof-dr-il
 an-pappe-palestine-talks-spring-2026-06-05/
CREATED:20260421T093100Z
DESCRIPTION:Lecture by Professor Ilan Pappé on Palestine\, exploring how 
 language and narratives shape media\, politics\, and struggles for freedom
 .
LAST-MODIFIED:20260421T135748Z
LOCATION:Theaterzaal Viernulvier\, Sint-Pietersnieuwstraat  23\, 9000 Ghen
 t
URL:https://www.ugent.be/en/agenda/narrative-palestine
END:VEVENT
BEGIN:VTIMEZONE
TZID:Europe/Amsterdam
X-LIC-LOCATION:Europe/Amsterdam
BEGIN:DAYLIGHT
DTSTART:20260329T030000
TZNAME:CEST
TZOFFSETFROM:+0100
TZOFFSETTO:+0200
END:DAYLIGHT
END:VTIMEZONE
END:VCALENDAR
