BEGIN:VCALENDAR
VERSION:2.0
PRODID:-//Plone.org//NONSGML plone.app.event//EN
X-WR-TIMEZONE:Europe/Amsterdam
BEGIN:VEVENT
SUMMARY:Lecture 'Isn't silence the most precise common language? Eco-liter
 acy from ubiquitous wetness.'
DTSTART;TZID=Europe/Amsterdam:20260502T140000
DTEND;TZID=Europe/Amsterdam:20260502T160000
DTSTAMP:20260425T214642Z
UID:b004fb5a513b4091a1cd81aa4195ed16@www.ugent.be
CATEGORIES:LW,Lecture
CONTACT:Department of Art History\, Musicology and Theatre Studies - Facul
 ty of Arts and Philosophy\, sophie.doutreligne@UGent.be\, https://www.vier
 nulvier.gent/nl/agenda/natural-contract-lab-r4m1
CREATED:20260423T124304Z
DESCRIPTION:Transdisciplinary conversation on rights of nature\, ecologica
 l grief and solidarity between water bodies.
LAST-MODIFIED:20260424T092730Z
LOCATION:Theater Foyer\, VIERNULVIER\, Sint-Pietersnieuwstraat 23\, 9000 G
 hent
URL:https://www.ugent.be/en/agenda/silence
END:VEVENT
BEGIN:VTIMEZONE
TZID:Europe/Amsterdam
X-LIC-LOCATION:Europe/Amsterdam
BEGIN:DAYLIGHT
DTSTART:20260329T030000
TZNAME:CEST
TZOFFSETFROM:+0100
TZOFFSETTO:+0200
END:DAYLIGHT
END:VTIMEZONE
END:VCALENDAR
