BEGIN:VCALENDAR
VERSION:2.0
PRODID:-//Plone.org//NONSGML plone.app.event//EN
X-WR-TIMEZONE:Europe/Amsterdam
BEGIN:VEVENT
SUMMARY:Symposium 'Een UGent-blik op AI'
DTSTART;TZID=Europe/Amsterdam:20260304T193000
DTEND;TZID=Europe/Amsterdam:20260304T220000
DTSTAMP:20260420T163259Z
UID:0ca7e6e9b0de4cbeb4adf0ff12118a54@www.ugent.be
CATEGORIES:Symposium
CONTACT:Communicatie en Marketing\, annelies.vandevelde@ugent.be\, https:/
 /www.ugent.be/nl/actueel/publieksavond-een-ugent-blik-op-ai.htm
CREATED:20260212T103642Z
DESCRIPTION:Maakt AI ons slimmer of net afhankelijker? Wat betekent ze voo
 r onze jobs\, onze rechtspraak en onze taal? Kan het ons brein veranderen?
  En wie bepaalt eigenlijk wat AI wel en niet mag doen?
LAST-MODIFIED:20260213T103439Z
LOCATION:Faculteitsbibliotheek\, faculteit Politieke en Sociale Wetenschap
 pen\, Sint-Pietersnieuwstraat  42\, 9000 Gent
URL:https://www.ugent.be/nl/agenda/blik-op-ai
END:VEVENT
BEGIN:VTIMEZONE
TZID:Europe/Amsterdam
X-LIC-LOCATION:Europe/Amsterdam
BEGIN:STANDARD
DTSTART:20251026T020000
TZNAME:CET
TZOFFSETFROM:+0200
TZOFFSETTO:+0100
END:STANDARD
END:VTIMEZONE
END:VCALENDAR
