BEGIN:VCALENDAR
VERSION:2.0
PRODID:-//Plone.org//NONSGML plone.app.event//EN
X-WR-TIMEZONE:Europe/Amsterdam
BEGIN:VEVENT
SUMMARY:Studiedag 'Carbon accounting'
DTSTART;TZID=Europe/Amsterdam:20260505T093000
DTEND;TZID=Europe/Amsterdam:20260505T170000
DTSTAMP:20260422T001354Z
UID:2b7e097947194e8792a573d18bb7fd79@www.ugent.be
CATEGORIES:Studiedag,TW
CONTACT:UGain - UGent Academie voor Ingenieurs\, an.balcaen@ugent.be\, htt
 ps://www.ugain.ugent.be/carbonaccounting2026.htm
CREATED:20251218T141749Z
DESCRIPTION:Leer hoe je de CO2 voetafdruk berekent van je organisatie en h
 oe je deze rapporteert volgens internationale en Belgische normen
LAST-MODIFIED:20251218T145305Z
LOCATION:lokaal 0.1  \, Technologiepark  60\, 9052 Zwijnaarde
URL:https://www.ugent.be/nl/agenda/carbon-accounting
END:VEVENT
BEGIN:VTIMEZONE
TZID:Europe/Amsterdam
X-LIC-LOCATION:Europe/Amsterdam
BEGIN:DAYLIGHT
DTSTART:20260329T030000
TZNAME:CEST
TZOFFSETFROM:+0100
TZOFFSETTO:+0200
END:DAYLIGHT
END:VTIMEZONE
END:VCALENDAR
