BEGIN:VCALENDAR
VERSION:2.0
PRODID:-//Plone.org//NONSGML plone.app.event//EN
X-WR-TIMEZONE:Europe/Amsterdam
BEGIN:VEVENT
SUMMARY:Symposium 'Crop protection'
DTSTART;TZID=Europe/Amsterdam:20260519T155900
DTEND;TZID=Europe/Amsterdam:20260519T155900
DTSTAMP:20260420T042526Z
UID:206beca97cc34b53ad21b0f515f91b2f@www.ugent.be
CATEGORIES:Symposium,LA
CONTACT:Department of Plants and Crops - Faculty of Bioscience Engineering
 \, iscp@ugent.be\, https://www.ugent.be/bw/plants-and-crops/iscp
CREATED:20260326T150244Z
DESCRIPTION:The 77th International Symposium will focus on new development
 s in all aspects of crop protection.
LAST-MODIFIED:20260327T125555Z
URL:https://www.ugent.be/nl/agenda/crop-protection
END:VEVENT
BEGIN:VTIMEZONE
TZID:Europe/Amsterdam
X-LIC-LOCATION:Europe/Amsterdam
BEGIN:DAYLIGHT
DTSTART:20260329T030000
TZNAME:CEST
TZOFFSETFROM:+0100
TZOFFSETTO:+0200
END:DAYLIGHT
END:VTIMEZONE
END:VCALENDAR
