BEGIN:VCALENDAR
VERSION:2.0
PRODID:-//Plone.org//NONSGML plone.app.event//EN
X-WR-TIMEZONE:Europe/Amsterdam
BEGIN:VEVENT
SUMMARY:Happening 'Dag van de Wetenschap '
DTSTART;TZID=Europe/Amsterdam:20251123T100000
DTEND;TZID=Europe/Amsterdam:20251123T170000
DTSTAMP:20260419T195333Z
UID:40143a6ccfae4991b4d71b407a8cca0c@www.ugent.be
CATEGORIES:Happening
CONTACT:Wetenschapscommunicatie UGent\, ineke.imbo@ugent.be\, https://www.
 ugent.be/nl/actueel/ugent-op-dag-van-de-wetenschap-2025
CREATED:20251112T143203Z
DESCRIPTION:Op zondag 23 november is het opnieuw de Dag van de Wetenschap.
  De UGent doet mee met meer dan 150 activiteiten!
LAST-MODIFIED:20251112T144845Z
LOCATION:Diverse locaties in in Vlaanderen en online
URL:https://www.ugent.be/nl/agenda/dag-van-de-wetenschap
END:VEVENT
BEGIN:VTIMEZONE
TZID:Europe/Amsterdam
X-LIC-LOCATION:Europe/Amsterdam
BEGIN:STANDARD
DTSTART:20251026T020000
TZNAME:CET
TZOFFSETFROM:+0200
TZOFFSETTO:+0100
END:STANDARD
END:VTIMEZONE
END:VCALENDAR
