BEGIN:VCALENDAR
VERSION:2.0
PRODID:-//Plone.org//NONSGML plone.app.event//EN
X-WR-TIMEZONE:Europe/Amsterdam
BEGIN:VEVENT
SUMMARY:Lezing 'De kracht van TWEE '
DTSTART;TZID=Europe/Amsterdam:20251113T200000
DTEND;TZID=Europe/Amsterdam:20251113T213000
DTSTAMP:20260421T043529Z
UID:5d4ed54856be4468abc4e820fec4a72c@www.ugent.be
CATEGORIES:Lezing,LW
CONTACT:Fonds Lucien De Coninck vzw\, ann.debuck@ugent.be\, https://fondsl
 uciendeconinck.com
CREATED:20251020T121225Z
DESCRIPTION:Ontdek hoe de databank Tweelingenstudies\, uniek in de wereld\
 , ons kan helpen om inzicht te krijgen in de rol die de genetische aanleg 
 en de omgevingsinvloeden spelen bij de ontwikkeling van bepaalde ziekten e
 n ons gedrag.
LAST-MODIFIED:20251021T125752Z
LOCATION:VC Geuzenhuis (Zuilenzaal)\, Kantienberg 9\, 9000 Gent
URL:https://www.ugent.be/nl/agenda/de-kracht-van-twee
END:VEVENT
BEGIN:VTIMEZONE
TZID:Europe/Amsterdam
X-LIC-LOCATION:Europe/Amsterdam
BEGIN:STANDARD
DTSTART:20251026T020000
TZNAME:CET
TZOFFSETFROM:+0200
TZOFFSETTO:+0100
END:STANDARD
END:VTIMEZONE
END:VCALENDAR
