BEGIN:VCALENDAR
VERSION:2.0
PRODID:-//Plone.org//NONSGML plone.app.event//EN
X-WR-TIMEZONE:Europe/Amsterdam
BEGIN:VEVENT
SUMMARY:Tentoonstelling 'Expo De Laatste Romeinen'
DTSTART;TZID=Europe/Amsterdam:20260205T132500
DTEND;TZID=Europe/Amsterdam:20270831T132500
DTSTAMP:20260425T221336Z
UID:bed58f130dac4baf9ab7b103a286a799@www.ugent.be
CATEGORIES:Tentoonstelling,LW
CONTACT:Vakgroep Archeologie - Faculteit Letteren en Wijsbegeerte\, vince.
 vanthienen@ugent.be\, https://cultuurforumaardenburg.nl/wisselexpositie/
CREATED:20260423T124451Z
DESCRIPTION:De pop-up expo ‘De Laatste Romeinen’ brengt het verhaal va
 n de laatste bewoners van het Romeinse fort aan de kust in Oudenburg rond 
 380 na Chr.
LAST-MODIFIED:20260424T105132Z
LOCATION:Diverse locaties
URL:https://www.ugent.be/nl/agenda/de-laatste-romeinen
END:VEVENT
BEGIN:VTIMEZONE
TZID:Europe/Amsterdam
X-LIC-LOCATION:Europe/Amsterdam
BEGIN:STANDARD
DTSTART:20251026T020000
TZNAME:CET
TZOFFSETFROM:+0200
TZOFFSETTO:+0100
END:STANDARD
BEGIN:DAYLIGHT
DTSTART:20270328T030000
TZNAME:CEST
TZOFFSETFROM:+0100
TZOFFSETTO:+0200
END:DAYLIGHT
END:VTIMEZONE
END:VCALENDAR
