BEGIN:VCALENDAR
VERSION:2.0
PRODID:-//Plone.org//NONSGML plone.app.event//EN
X-WR-TIMEZONE:Europe/Amsterdam
BEGIN:VEVENT
SUMMARY:Happening 'Future Proef Award 2025'
DTSTART;TZID=Europe/Amsterdam:20251209T170000
DTEND;TZID=Europe/Amsterdam:20251209T210000
DTSTAMP:20260422T175035Z
UID:9e2ae9d4bad04a77a2661ba0115a4548@www.ugent.be
CATEGORIES:Happening,Duurzaamheid
CONTACT:Green Office\, Team Duurzaamheid\, duurzaam@ugent.be\, https://fb.
 me/e/6af50TKvw
CREATED:20251125T145550Z
DESCRIPTION:Op de Future Proef Award zetten we duurzaam en toekomstgericht
  thesisonderzoek in de kijker.
LAST-MODIFIED:20251125T151347Z
LOCATION:Pacificatiezaal\, Stadhuis\, Botermarkt 1\, 9000 Gent
URL:https://www.ugent.be/nl/agenda/future-proef-award
END:VEVENT
BEGIN:VTIMEZONE
TZID:Europe/Amsterdam
X-LIC-LOCATION:Europe/Amsterdam
BEGIN:STANDARD
DTSTART:20251026T020000
TZNAME:CET
TZOFFSETFROM:+0200
TZOFFSETTO:+0100
END:STANDARD
END:VTIMEZONE
END:VCALENDAR
