BEGIN:VCALENDAR
VERSION:2.0
PRODID:-//Plone.org//NONSGML plone.app.event//EN
X-WR-TIMEZONE:Europe/Amsterdam
BEGIN:VEVENT
SUMMARY:Lezing 'Ruzie over kerstmis in Jeruzalem (560 n. Chr.). Tijdsreken
 ing en liturgie tussen Oost en West'
DTSTART;TZID=Europe/Amsterdam:20260311T193000
DTEND;TZID=Europe/Amsterdam:20260311T213000
DTSTAMP:20260419T185557Z
UID:a0f0977e19ca415fa6a699108f6f7007@www.ugent.be
CATEGORIES:Lezing
CONTACT:Griekenlandcentrum - Faculteit Letteren en Wijsbegeerte\, eleonora
 .lauro@ugent.be\, https://www.grieks.ugent.be/events/peter-van-nuffelen-ru
 zie-over-kerstmis-in-jeruzalem-560-n-chr/
CREATED:20260304T125303Z
DESCRIPTION:Samen met Peter Van Nuffelen ontdekken we meer over kerstmis\,
  pasen\, en de controversiële debatten daaromtrent in de 6e eeuw.
LAST-MODIFIED:20260304T125337Z
LOCATION:Leslokaal 0.4\, Blandijnberg 2\, 9000 Gent
URL:https://www.ugent.be/nl/agenda/kerstmis-jeruzalem
END:VEVENT
BEGIN:VTIMEZONE
TZID:Europe/Amsterdam
X-LIC-LOCATION:Europe/Amsterdam
BEGIN:STANDARD
DTSTART:20251026T020000
TZNAME:CET
TZOFFSETFROM:+0200
TZOFFSETTO:+0100
END:STANDARD
END:VTIMEZONE
END:VCALENDAR
