BEGIN:VCALENDAR
VERSION:2.0
PRODID:-//Plone.org//NONSGML plone.app.event//EN
X-WR-TIMEZONE:Europe/Amsterdam
BEGIN:VEVENT
SUMMARY:Lezing 'De antieke liefdesroman en de apokriefe acten van de apost
 elen'
DTSTART;TZID=Europe/Amsterdam:20251118T193000
DTEND;TZID=Europe/Amsterdam:20251118T220000
DTSTAMP:20260420T124304Z
UID:3e023b95b59b4d1380874550f60ecb9d@www.ugent.be
CATEGORIES:Lezing,LW
CONTACT:CSCT\, Vakgroep Wijsbegeerte en Moraalwetenschap\, Liberas & Geuze
 nhuis\, bmardvos.devos@ugent.be\, https://www.csct.ugent.be/lezingen
CREATED:20250901T163422Z
DESCRIPTION:Lezing door Koen De Temmerman (UGent)
LAST-MODIFIED:20250903T120158Z
LOCATION:Liberas\, Blauwe Zaal\, Kramersplein  23\, 9000 Gent
URL:https://www.ugent.be/nl/agenda/liefdesroman
END:VEVENT
BEGIN:VTIMEZONE
TZID:Europe/Amsterdam
X-LIC-LOCATION:Europe/Amsterdam
BEGIN:STANDARD
DTSTART:20251026T020000
TZNAME:CET
TZOFFSETFROM:+0200
TZOFFSETTO:+0100
END:STANDARD
END:VTIMEZONE
END:VCALENDAR
