BEGIN:VCALENDAR
VERSION:2.0
PRODID:-//Plone.org//NONSGML plone.app.event//EN
X-WR-TIMEZONE:Europe/Amsterdam
BEGIN:VEVENT
SUMMARY:Lezing 'Disrupting the Narrative on Palestine'
DTSTART;TZID=Europe/Amsterdam:20260506T180000
DTEND;TZID=Europe/Amsterdam:20260506T200000
DTSTAMP:20260422T094955Z
UID:fbee9bea84614f71bfd2e4efd9174bac@www.ugent.be
CATEGORIES:Lezing,LW
CONTACT:Department of Languages and Cultures - Faculty of Arts and Philoso
 phy\, lisa.franke@ugent.be\, https://www.middleeast.ugent.be/en/prof-dr-il
 an-pappe-palestine-talks-spring-2026-06-05/
CREATED:20260421T093100Z
DESCRIPTION:Lecture by Professor Ilan Pappé on Palestine\, exploring how 
 language and narratives shape media\, politics\, and struggles for freedom
 .
LAST-MODIFIED:20260421T135202Z
LOCATION:Theaterzaal Viernulvier\, Sint-Pietersnieuwstraat  23\, 9000 Ghen
 t
URL:https://www.ugent.be/nl/agenda/narrative-palestine
END:VEVENT
BEGIN:VTIMEZONE
TZID:Europe/Amsterdam
X-LIC-LOCATION:Europe/Amsterdam
BEGIN:DAYLIGHT
DTSTART:20260329T030000
TZNAME:CEST
TZOFFSETFROM:+0100
TZOFFSETTO:+0200
END:DAYLIGHT
END:VTIMEZONE
END:VCALENDAR
