BEGIN:VCALENDAR
VERSION:2.0
PRODID:-//Plone.org//NONSGML plone.app.event//EN
X-WR-TIMEZONE:Europe/Amsterdam
BEGIN:VEVENT
SUMMARY:Lezing 'Tussen Turkije en Griekenland: de odyssee van het Cappadoc
 isch Grieks'
DTSTART;TZID=Europe/Amsterdam:20260506T193000
DTEND;TZID=Europe/Amsterdam:20260506T213000
DTSTAMP:20260423T221812Z
UID:de55aa60919f432b9168c7f4c2821ed7@www.ugent.be
CATEGORIES:Lezing,LW
CONTACT:Griekenlandcentrum - Faculteit Letteren en Wijsbegeerte\, eleonora
 .lauro@ugent.be\, https://www.grieks.ugent.be/events/eline-daveloose-tusse
 n-turkije-en-griekenland-de-odyssee-van-het-cappadocisch-grieks/
CREATED:20260422T180814Z
DESCRIPTION:Samen met dra. Eline Daveloose duiken we de wondere geschieden
 is van het Cappadocisch Grieks binnen.
LAST-MODIFIED:20260423T090002Z
LOCATION:Leslokaal 0.4\, Blandijnberg 2\, 9000 Gent
URL:https://www.ugent.be/nl/agenda/odyssee
END:VEVENT
BEGIN:VTIMEZONE
TZID:Europe/Amsterdam
X-LIC-LOCATION:Europe/Amsterdam
BEGIN:DAYLIGHT
DTSTART:20260329T030000
TZNAME:CEST
TZOFFSETFROM:+0100
TZOFFSETTO:+0200
END:DAYLIGHT
END:VTIMEZONE
END:VCALENDAR
