BEGIN:VCALENDAR
VERSION:2.0
PRODID:-//Plone.org//NONSGML plone.app.event//EN
X-WR-TIMEZONE:Europe/Amsterdam
BEGIN:VEVENT
SUMMARY:Lezing 'Meet The Expert - Neurofibromatosis 1 associated Malignant
  Peripheral Nerve Sheath Tumour'
DTSTART;TZID=Europe/Amsterdam:20260108T153000
DTEND;TZID=Europe/Amsterdam:20260108T170000
DTSTAMP:20260420T211652Z
UID:f5fa082070a143f2b2354494706ace52@www.ugent.be
CATEGORIES:Lezing,GE
CONTACT:Department of Human Structure and Repair - Faculty of Medicine and
  Health Sciences\, stefanie.gijsels@ugent.be
CREATED:20251218T091257Z
DESCRIPTION:Prof Ferner is a world-renowned specialist in neurofibromatosi
 s 1 associated malignant peripheral nerve sheath tumour (MPNST)\, a rare s
 arcoma subtype.
LAST-MODIFIED:20251218T130230Z
LOCATION:Room 4.1\, UZ Gent\, Corneel Heymanslaan 10\, 9000 Ghent
URL:https://www.ugent.be/nl/agenda/sheath-tumour
END:VEVENT
BEGIN:VTIMEZONE
TZID:Europe/Amsterdam
X-LIC-LOCATION:Europe/Amsterdam
BEGIN:STANDARD
DTSTART:20251026T020000
TZNAME:CET
TZOFFSETFROM:+0200
TZOFFSETTO:+0100
END:STANDARD
END:VTIMEZONE
END:VCALENDAR
