BEGIN:VCALENDAR
VERSION:2.0
PRODID:-//Plone.org//NONSGML plone.app.event//EN
X-WR-TIMEZONE:Europe/Amsterdam
BEGIN:VEVENT
SUMMARY:Lezing 'Translatio imperii\, metaphor of reception'
DTSTART;TZID=Europe/Amsterdam:20260422T140000
DTEND;TZID=Europe/Amsterdam:20260422T160000
DTSTAMP:20260422T030009Z
UID:f55d6f5d02bd40f282f4db89cba55833@www.ugent.be
CATEGORIES:Lezing,LW
CONTACT:Gents Instituut voor Klassieke Studies (GIKS) - Faculty of Arts an
 d Philosophy\, dorien.slotman@ugent.be\, https://www.newpolities.ugent.be/
 conferences/
CREATED:20260309T090739Z
DESCRIPTION:Lecture by Prof Michèle Lowrie
LAST-MODIFIED:20260309T102459Z
LOCATION:1.11\, T2\, Campus Ufo\, Sint-Pietersnieuwstraat\, 9000 Ghent
URL:https://www.ugent.be/nl/agenda/translatio-imperii
END:VEVENT
BEGIN:VTIMEZONE
TZID:Europe/Amsterdam
X-LIC-LOCATION:Europe/Amsterdam
BEGIN:DAYLIGHT
DTSTART:20260329T030000
TZNAME:CEST
TZOFFSETFROM:+0100
TZOFFSETTO:+0200
END:DAYLIGHT
END:VTIMEZONE
END:VCALENDAR
