BEGIN:VCALENDAR
VERSION:2.0
PRODID:-//Plone.org//NONSGML plone.app.event//EN
X-WR-TIMEZONE:Europe/Amsterdam
BEGIN:VEVENT
SUMMARY:Studiedag 'Verandering\, hoop en activisme - CESSMIR Migratieonder
 zoek in Praktijk'
DTSTART;TZID=Europe/Amsterdam:20260313T090000
DTEND;TZID=Europe/Amsterdam:20260313T170000
DTSTAMP:20260421T111956Z
UID:feefccdf9721498cacce27eae562cda7@www.ugent.be
CATEGORIES:Studiedag,IDC
CONTACT:CESSMIR\, floor.verhaeghe@ugent.be\, https://cessmir.be/activiteit
 /migratieonderzoek-in-de-praktijk-2/
CREATED:20260213T154503Z
DESCRIPTION:Lezing\, reflectie en duopresentaties die onderzoek en praktij
 k verbinden\, rond verandering\, hoop en activisme.
LAST-MODIFIED:20260216T093105Z
LOCATION:De Krook\, Miriam Makebaplein 1\, 9000 Gent
URL:https://www.ugent.be/nl/agenda/verandering
END:VEVENT
BEGIN:VTIMEZONE
TZID:Europe/Amsterdam
X-LIC-LOCATION:Europe/Amsterdam
BEGIN:STANDARD
DTSTART:20251026T020000
TZNAME:CET
TZOFFSETFROM:+0200
TZOFFSETTO:+0100
END:STANDARD
END:VTIMEZONE
END:VCALENDAR
