BEGIN:VCALENDAR
VERSION:2.0
PRODID:-//Plone.org//NONSGML plone.app.event//EN
X-WR-TIMEZONE:Europe/Amsterdam
BEGIN:VEVENT
SUMMARY:GRACE studienamiddag: Kunstcriminaliteit. In Nederland???
DTSTART;TZID=Europe/Amsterdam:20260522T130000
DTEND;TZID=Europe/Amsterdam:20260522T170000
DTSTAMP:20260423T183907Z
UID:0d98e5764db54da9b036932e2976c436@www.ugent.be
CATEGORIES:RE
CONTACT:Mathias Desmet\, mathidsm.desmet@ugent.be
CREATED:20260225T101731Z
LAST-MODIFIED:20260423T090245Z
LOCATION:Hoofdbureau van Politie\, Doelwater 5\, Rotterdam
URL:https://www.ugent.be/re/cssr/nl/actueel/agenda/grace22052026
END:VEVENT
BEGIN:VTIMEZONE
TZID:Europe/Amsterdam
X-LIC-LOCATION:Europe/Amsterdam
BEGIN:DAYLIGHT
DTSTART:20260329T030000
TZNAME:CEST
TZOFFSETFROM:+0100
TZOFFSETTO:+0200
END:DAYLIGHT
END:VTIMEZONE
END:VCALENDAR
