BEGIN:VCALENDAR
VERSION:2.0
PRODID:-//Plone.org//NONSGML plone.app.event//EN
X-WR-TIMEZONE:Europe/Amsterdam
BEGIN:VEVENT
SUMMARY:Bouwshift en ruimtelijke ordening
DTSTART;TZID=Europe/Amsterdam:20251127T090000
DTEND;TZID=Europe/Amsterdam:20251127T190000
DTSTAMP:20260422T081815Z
UID:2ab4b95ee08247d982b481382182e296@www.ugent.be
CATEGORIES:RE,RE21,RE22,RE23
CONTACT:Gandaius Academy\, 09 264 67 58\, gandaius@UGent.be\, https://gand
 aiusacademy.ugent.be/2025/omgevingsrecht
CREATED:20251022T101748Z
DESCRIPTION:Studiedag Ruimtelijke Ordening: update over bouwshift\, verkav
 elingsvergunningen\, vergunningenbeleid en handhaving volgens Vlaamse rege
 lgeving.
LAST-MODIFIED:20251022T101755Z
LOCATION:Sint-Baafshuis Gent
URL:https://www.ugent.be/re/nl/actueel/agenda/bouwshift.htm
END:VEVENT
BEGIN:VTIMEZONE
TZID:Europe/Amsterdam
X-LIC-LOCATION:Europe/Amsterdam
BEGIN:STANDARD
DTSTART:20251026T020000
TZNAME:CET
TZOFFSETFROM:+0200
TZOFFSETTO:+0100
END:STANDARD
END:VTIMEZONE
END:VCALENDAR
