BEGIN:VCALENDAR
VERSION:2.0
PRODID:-//Plone.org//NONSGML plone.app.event//EN
X-WR-TIMEZONE:Europe/Amsterdam
BEGIN:VEVENT
SUMMARY:Specialisatie ouderschapsbemiddeling
DTSTART;TZID=Europe/Amsterdam:20251009T093000
DTEND;TZID=Europe/Amsterdam:20251023T153000
DTSTAMP:20260419T221824Z
UID:dbf10113e2964203a8ec1036d3bff251@www.ugent.be
CATEGORIES:RE,RE21,RE22,RE23,PP,PP04,Workshop,Onderwijs,Gandaius,Permanent
 e vorming
CONTACT:Gandaius Academy\, 092646758\, gandaius@ugent.be\, https://gandaiu
 sacademy.ugent.be/25-26/ouderschapsbemiddeling
CREATED:20250617T093017Z
DESCRIPTION:Wanneer ouders uit elkaar gaan\, doen ze vaak een beroep op ee
 n ouderschapsbemiddelaar om het ouderschap op een nieuwe manier te organis
 eren. Ook rechters verwijzen steeds vaker door naar bemiddeling tijdens ge
 rechtelijke procedures. Deze situatie brengt vaak complexe vraagstukken me
 t zich mee\, zoals:
LAST-MODIFIED:20250617T093057Z
LOCATION:Faculteit Recht en Criminologie\, UGent
URL:https://www.ugent.be/re/nl/actueel/agenda/ouderschapsbemiddeling.htm
END:VEVENT
BEGIN:VTIMEZONE
TZID:Europe/Amsterdam
X-LIC-LOCATION:Europe/Amsterdam
BEGIN:DAYLIGHT
DTSTART:20250330T030000
TZNAME:CEST
TZOFFSETFROM:+0100
TZOFFSETTO:+0200
END:DAYLIGHT
END:VTIMEZONE
END:VCALENDAR
