BEGIN:VCALENDAR
VERSION:2.0
PRODID:-//Plone.org//NONSGML plone.app.event//EN
X-WR-TIMEZONE:Europe/Amsterdam
BEGIN:VEVENT
SUMMARY:Baksteen op de maag? Los je bouwgeschillen efficiënt op!
DTSTART;TZID=Europe/Amsterdam:20251117T180000
DTEND;TZID=Europe/Amsterdam:20251117T220000
DTSTAMP:20260422T070253Z
UID:02ba011a35b74db9b240b681b1e38158@www.ugent.be
CATEGORIES:RE,RE21,RE22,RE23,Gandaius
CONTACT:Gandaius Academy\, 09 264 67 58\, gandaius@ugent.be\, https://gand
 aiusacademy.ugent.be/bouwgeschillen
CREATED:20251022T094939Z
DESCRIPTION:Bouwgeschillen efficiënt oplossen: sneller\, menselijker en d
 uurzaam\, zonder eindeloze procedures en met behoud van tijd\, geld en ver
 trouwen.
LAST-MODIFIED:20251022T094956Z
LOCATION:Faculteit Recht en Criminologie\, Universiteit Gent
URL:https://www.ugent.be/re/nl/actueel/bouwgeschillen.htm
END:VEVENT
BEGIN:VTIMEZONE
TZID:Europe/Amsterdam
X-LIC-LOCATION:Europe/Amsterdam
BEGIN:STANDARD
DTSTART:20251026T020000
TZNAME:CET
TZOFFSETFROM:+0200
TZOFFSETTO:+0100
END:STANDARD
END:VTIMEZONE
END:VCALENDAR
